BEGIN:VCALENDAR
VERSION:2.0
PRODID:-//VETRO - ECPv6.15.20//NONSGML v1.0//EN
CALSCALE:GREGORIAN
METHOD:PUBLISH
X-ORIGINAL-URL:https://vetrofibermap.com
X-WR-CALDESC:Events for VETRO
REFRESH-INTERVAL;VALUE=DURATION:PT1H
X-Robots-Tag:noindex
X-PUBLISHED-TTL:PT1H
BEGIN:VTIMEZONE
TZID:UTC
BEGIN:STANDARD
TZOFFSETFROM:+0000
TZOFFSETTO:+0000
TZNAME:UTC
DTSTART:20220101T000000
END:STANDARD
END:VTIMEZONE
BEGIN:VEVENT
DTSTART;TZID=UTC:20230514T080000
DTEND;TZID=UTC:20230517T170000
DTSTAMP:20260421T133415
CREATED:20230510T174152Z
LAST-MODIFIED:20230510T174152Z
UID:9165-1684051200-1684342800@vetrofibermap.com
SUMMARY:International Telecoms Week
DESCRIPTION:International Telecoms Week is the world’s largest gathering of global executives from across the telecoms and Digital Infrastructure ecosystem. By joining us in National Harbor you will have access to key decision-makers to grow your business\, gain insight into the solutions to overcoming the greatest challenges to our industry and network with new and old connections. \nThis is the only event in the world where you can meet with the entire international connectivity market. We can’t wait to see you next week!
URL:https://vetrofibermap.com/event/international-telecoms-week/
LOCATION:National Harbor\, MD
CATEGORIES:Trade Show
ATTACH;FMTTYPE=image/png:https://vetrofibermap.com/wp-content/uploads/2023/05/Screenshot-2023-05-10-at-1.39.58-PM.png
END:VEVENT
END:VCALENDAR