BEGIN:VCALENDAR
VERSION:2.0
PRODID:-//VETRO - ECPv6.15.20//NONSGML v1.0//EN
CALSCALE:GREGORIAN
METHOD:PUBLISH
X-ORIGINAL-URL:https://vetrofibermap.com
X-WR-CALDESC:Events for VETRO
REFRESH-INTERVAL;VALUE=DURATION:PT1H
X-Robots-Tag:noindex
X-PUBLISHED-TTL:PT1H
BEGIN:VTIMEZONE
TZID:UTC
BEGIN:STANDARD
TZOFFSETFROM:+0000
TZOFFSETTO:+0000
TZNAME:UTC
DTSTART:20250101T000000
END:STANDARD
END:VTIMEZONE
BEGIN:VEVENT
DTSTART;VALUE=DATE:20260319
DTEND;VALUE=DATE:20260320
DTSTAMP:20260423T114205
CREATED:20251208T132841Z
LAST-MODIFIED:20251208T132841Z
UID:11798-1773878400-1773964799@vetrofibermap.com
SUMMARY:Regional Fiber Connect – Indiana
DESCRIPTION:Put your company front and center with industry and community leaders by exhibiting at one of our Regional Fiber Connect Workshops! Join us and enjoy face-to-face networking opportunities with an audience eager to learn how to bring fiber to their communities.
URL:https://vetrofibermap.com/event/regional-fiber-connect-indiana/
LOCATION:Indianapolis\, IN\, United States
CATEGORIES:Trade Show
ATTACH;FMTTYPE=image/webp:https://vetrofibermap.com/wp-content/uploads/2025/12/2603-regional-fiber-connect-indiana.webp
END:VEVENT
END:VCALENDAR