BEGIN:VCALENDAR
VERSION:2.0
PRODID:-//VETRO - ECPv6.15.20//NONSGML v1.0//EN
CALSCALE:GREGORIAN
METHOD:PUBLISH
X-ORIGINAL-URL:https://vetrofibermap.com
X-WR-CALDESC:Events for VETRO
REFRESH-INTERVAL;VALUE=DURATION:PT1H
X-Robots-Tag:noindex
X-PUBLISHED-TTL:PT1H
BEGIN:VTIMEZONE
TZID:UTC
BEGIN:STANDARD
TZOFFSETFROM:+0000
TZOFFSETTO:+0000
TZNAME:UTC
DTSTART:20250101T000000
END:STANDARD
END:VTIMEZONE
BEGIN:VEVENT
DTSTART;VALUE=DATE:20260407
DTEND;VALUE=DATE:20260410
DTSTAMP:20260423T154817
CREATED:20251208T133343Z
LAST-MODIFIED:20251208T154956Z
UID:11800-1775520000-1775779199@vetrofibermap.com
SUMMARY:Field Service Next West
DESCRIPTION:Field Service Next West 2026
URL:https://vetrofibermap.com/event/field-service-next-west/
LOCATION:San Diego\, CA
CATEGORIES:Trade Show
ATTACH;FMTTYPE=image/webp:https://vetrofibermap.com/wp-content/uploads/2025/12/2604-field-service-next-west.webp
END:VEVENT
END:VCALENDAR