BEGIN:VCALENDAR
VERSION:2.0
PRODID:-//VETRO - ECPv6.15.20//NONSGML v1.0//EN
CALSCALE:GREGORIAN
METHOD:PUBLISH
X-ORIGINAL-URL:https://vetrofibermap.com
X-WR-CALDESC:Events for VETRO
REFRESH-INTERVAL;VALUE=DURATION:PT1H
X-Robots-Tag:noindex
X-PUBLISHED-TTL:PT1H
BEGIN:VTIMEZONE
TZID:UTC
BEGIN:STANDARD
TZOFFSETFROM:+0000
TZOFFSETTO:+0000
TZNAME:UTC
DTSTART:20250101T000000
END:STANDARD
END:VTIMEZONE
BEGIN:VEVENT
DTSTART;VALUE=DATE:20260924
DTEND;VALUE=DATE:20260925
DTSTAMP:20260421T181101
CREATED:20251208T153253Z
LAST-MODIFIED:20251208T153253Z
UID:11821-1790208000-1790294399@vetrofibermap.com
SUMMARY:Regional Fiber Connect – MA
DESCRIPTION:Put your company front and center with industry and community leaders by exhibiting at one of our Regional Fiber Connect events! Join us and enjoy face-to-face networking opportunities with an audience eager to learn how to bring fiber to their communities.
URL:https://vetrofibermap.com/event/regional-fiber-connect-ma/
LOCATION:Boston\, MA\, United States
CATEGORIES:Trade Show
ATTACH;FMTTYPE=image/webp:https://vetrofibermap.com/wp-content/uploads/2025/12/2609-regional-fiber-connect-ma.webp
END:VEVENT
BEGIN:VEVENT
DTSTART;VALUE=DATE:20260928
DTEND;VALUE=DATE:20261001
DTSTAMP:20260421T181101
CREATED:20251208T153423Z
LAST-MODIFIED:20251208T153423Z
UID:11822-1790553600-1790812799@vetrofibermap.com
SUMMARY:Yotta
DESCRIPTION:The Yotta conference is designed to expose attendees to the latest thinking from leaders in compute\, network\, telecoms\, data centers\, energy\, and beyond.
URL:https://vetrofibermap.com/event/yotta/
LOCATION:Las Vegas\, NV\, Las Vegas\, NV\, United States
CATEGORIES:Trade Show
ATTACH;FMTTYPE=image/webp:https://vetrofibermap.com/wp-content/uploads/2025/12/2609-yotta.webp
END:VEVENT
BEGIN:VEVENT
DTSTART;VALUE=DATE:20261006
DTEND;VALUE=DATE:20261008
DTSTAMP:20260421T181101
CREATED:20251208T154250Z
LAST-MODIFIED:20251208T154330Z
UID:11823-1791244800-1791417599@vetrofibermap.com
SUMMARY:TMT Finance USA
DESCRIPTION:TMT Finance USA is the most important annual event for senior dealmakers leading M&A\, Financing and Investment in Datacenters\, Fiber\, Telecoms\, Towers and Cloud businesses across North America.\nThe 2025 edition brought together 750 operators\, investors and advisors for two days of top-tier networking\, deal origination and cutting edge content on new opportunities. Due to the event selling out\, we’re proud to announce a relocation in 2026 to a bigger luxury venue in downtown Manhattan.
URL:https://vetrofibermap.com/event/tmt-finance-usa/
LOCATION:New York\, NY\, United States
CATEGORIES:Trade Show
ATTACH;FMTTYPE=image/webp:https://vetrofibermap.com/wp-content/uploads/2025/12/2610-tmt-finance-usa.webp
END:VEVENT
BEGIN:VEVENT
DTSTART;VALUE=DATE:20261027
DTEND;VALUE=DATE:20261028
DTSTAMP:20260421T181101
CREATED:20251208T154600Z
LAST-MODIFIED:20251208T154600Z
UID:11826-1793059200-1793145599@vetrofibermap.com
SUMMARY:Regional Fiber Connect – GA
DESCRIPTION:Put your company front and center with industry and community leaders by exhibiting at one of our Regional Fiber Connect events! Join us and enjoy face-to-face networking opportunities with an audience eager to learn how to bring fiber to their communities.
URL:https://vetrofibermap.com/event/regional-fiber-connect-ga/
LOCATION:Savannah\, GA\, United States
CATEGORIES:Trade Show
ATTACH;FMTTYPE=image/webp:https://vetrofibermap.com/wp-content/uploads/2025/12/2610-regional-fiber-connect-ga.webp
END:VEVENT
END:VCALENDAR