BEGIN:VCALENDAR
VERSION:2.0
PRODID:-//VETRO - ECPv6.15.20//NONSGML v1.0//EN
CALSCALE:GREGORIAN
METHOD:PUBLISH
X-ORIGINAL-URL:https://vetrofibermap.com
X-WR-CALDESC:Events for VETRO
REFRESH-INTERVAL;VALUE=DURATION:PT1H
X-Robots-Tag:noindex
X-PUBLISHED-TTL:PT1H
BEGIN:VTIMEZONE
TZID:America/New_York
BEGIN:DAYLIGHT
TZOFFSETFROM:-0500
TZOFFSETTO:-0400
TZNAME:EDT
DTSTART:20220313T070000
END:DAYLIGHT
BEGIN:STANDARD
TZOFFSETFROM:-0400
TZOFFSETTO:-0500
TZNAME:EST
DTSTART:20221106T060000
END:STANDARD
BEGIN:DAYLIGHT
TZOFFSETFROM:-0500
TZOFFSETTO:-0400
TZNAME:EDT
DTSTART:20230312T070000
END:DAYLIGHT
BEGIN:STANDARD
TZOFFSETFROM:-0400
TZOFFSETTO:-0500
TZNAME:EST
DTSTART:20231105T060000
END:STANDARD
BEGIN:DAYLIGHT
TZOFFSETFROM:-0500
TZOFFSETTO:-0400
TZNAME:EDT
DTSTART:20240310T070000
END:DAYLIGHT
BEGIN:STANDARD
TZOFFSETFROM:-0400
TZOFFSETTO:-0500
TZNAME:EST
DTSTART:20241103T060000
END:STANDARD
END:VTIMEZONE
BEGIN:VEVENT
DTSTART;TZID=America/New_York:20230216T130000
DTEND;TZID=America/New_York:20230216T140000
DTSTAMP:20260421T111406
CREATED:20230117T172608Z
LAST-MODIFIED:20230123T172900Z
UID:8911-1676552400-1676556000@vetrofibermap.com
SUMMARY:Webinar: What's New With VETRO!
DESCRIPTION:Webinar: What’s New With VETRO\n\n\n\n\nLive Virtual Event + Panel Q&A\nThursday\, February 16th at 1pm Eastern\nJoin the VETRO team for a live virtual tour of some of the new exciting features in the VETRO FiberMap platform!  \n\n\n\n\nThis webinar will cover all the new features\, performance enhancements and updates that are now available with your VETRO subscription. \n\n\n\n\n\n\n\n\nWhether you’re new to the VETRO platform and would like to see more of what our system can do\, or you’re a seasoned VETRO user curious about the practical application of new features\, there’s something for every fiber mapper in this session. \nPlus\, we’ll sneak a peek at what’s coming in the VETRO platform in 2023 and meet some of the new folks who have joined our product team. \n\n\n\n\n\nREGISTER NOW! \n\n\n\n 
URL:https://vetrofibermap.com/event/webinar-whats-new-with-vetro/
LOCATION:PA
CATEGORIES:Webinar
ATTACH;FMTTYPE=image/png:https://vetrofibermap.com/wp-content/uploads/2023/01/Screen-Shot-2023-01-23-at-12.27.32-PM.png
END:VEVENT
END:VCALENDAR